﻿BEGIN:VCALENDAR
VERSION:2.0
PRODID:-//musee-galle-juillet
CALSCALE:GREGORIAN
METHOD:PUBLISH
X-WR-CALNAME:musee-galle-juillet
X-ORIGINAL-URL:https://museegallejuillet.fr/produit/lepoque-gallo-romaine-a-creil-les-ceramiques-sigillees-2__trashed/
X-WR-CALDESC:L&rsquo;époque gallo-romaine à Creil : les céramiques sigillées
BEGIN:VEVENT
DTSTART;TZID=Europe/Helsinki:20220728T000000
DTEND;TZID=Europe/Helsinki:20220728T000000
SUMMARY:L’époque gallo-romaine à Creil : les céramiques sigillées
DESCRIPTION:Les parents et les enfants découvrent les céramiques sigillées retrouvées grâce aux fouilles entreprises par la société archéologique de Creil après la découverte du trésor de l’écluse. A la suite de la visite chacun pourra réaliser son bol en argile sigillée
URL:https://museegallejuillet.fr/produit/lepoque-gallo-romaine-a-creil-les-ceramiques-sigillees-2__trashed/
LOCATION:
END:VEVENT
END:VCALENDAR
